BEGIN:VCALENDAR
VERSION:2.0
PRODID:-//Harkebrügge - ECPv6.15.20//NONSGML v1.0//EN
CALSCALE:GREGORIAN
METHOD:PUBLISH
X-ORIGINAL-URL:https://xn--harkebrgge-geb.de
X-WR-CALDESC:Veranstaltungen für Harkebrügge
REFRESH-INTERVAL;VALUE=DURATION:PT1H
X-Robots-Tag:noindex
X-PUBLISHED-TTL:PT1H
BEGIN:VTIMEZONE
TZID:Europe/Berlin
BEGIN:DAYLIGHT
TZOFFSETFROM:+0100
TZOFFSETTO:+0200
TZNAME:CEST
DTSTART:20220327T010000
END:DAYLIGHT
BEGIN:STANDARD
TZOFFSETFROM:+0200
TZOFFSETTO:+0100
TZNAME:CET
DTSTART:20221030T010000
END:STANDARD
BEGIN:DAYLIGHT
TZOFFSETFROM:+0100
TZOFFSETTO:+0200
TZNAME:CEST
DTSTART:20230326T010000
END:DAYLIGHT
BEGIN:STANDARD
TZOFFSETFROM:+0200
TZOFFSETTO:+0100
TZNAME:CET
DTSTART:20231029T010000
END:STANDARD
BEGIN:DAYLIGHT
TZOFFSETFROM:+0100
TZOFFSETTO:+0200
TZNAME:CEST
DTSTART:20240331T010000
END:DAYLIGHT
BEGIN:STANDARD
TZOFFSETFROM:+0200
TZOFFSETTO:+0100
TZNAME:CET
DTSTART:20241027T010000
END:STANDARD
END:VTIMEZONE
BEGIN:VEVENT
DTSTART;TZID=Europe/Berlin:20231108T193000
DTEND;TZID=Europe/Berlin:20231108T210000
DTSTAMP:20260423T190006
CREATED:20231105T162816Z
LAST-MODIFIED:20231105T162816Z
UID:6618-1699471800-1699477200@xn--harkebrgge-geb.de
SUMMARY:Diskussionsabend: Klimawandel - alternative Energien
DESCRIPTION:Die KAB-Harkebrügge lädt alle Bürger zu einem Diskussionsabend mit dem Bürgermeister Nils Anhuth am Mittwoch\, 8. November 2023 um 19:30 Uhr in Pfarrheim Harkebrügge ein. Thema: Klimawandel – alternative Energien für Privathaushalt und öffentliche Gebäuden in unserer Gemeinde. Alle sind herzlich willkommen.
URL:https://xn--harkebrgge-geb.de/event/diskussionsabend-klimawandel-alternative-energien/
LOCATION:Pfarrheim Harkebrügge\, Dorfstrasse 36\, Harkebrügge\, 26676\, Deutschland
CATEGORIES:KAB
END:VEVENT
BEGIN:VEVENT
DTSTART;TZID=Europe/Berlin:20231112T100000
DTEND;TZID=Europe/Berlin:20231112T140000
DTSTAMP:20260423T190006
CREATED:20231022T112640Z
LAST-MODIFIED:20231022T112640Z
UID:6612-1699783200-1699797600@xn--harkebrgge-geb.de
SUMMARY:25. Oldenburger-Gespräche  2023
DESCRIPTION:
URL:https://xn--harkebrgge-geb.de/event/25-oldenburger-gespraeche-2023/
LOCATION:Pfarrheim Harkebrügge\, Dorfstrasse 36\, Harkebrügge\, 26676\, Deutschland
CATEGORIES:Kolping
END:VEVENT
BEGIN:VEVENT
DTSTART;TZID=Europe/Berlin:20231115T200000
DTEND;TZID=Europe/Berlin:20231115T200000
DTSTAMP:20260423T190006
CREATED:20231105T163502Z
LAST-MODIFIED:20231105T163503Z
UID:6620-1700078400-1700078400@xn--harkebrgge-geb.de
SUMMARY:Terminplanung Harkebrügger Vereine 2024
DESCRIPTION:
URL:https://xn--harkebrgge-geb.de/event/terminplanung-harkebruegger-vereine-2024/
LOCATION:Pfarrheim Harkebrügge\, Dorfstrasse 36\, Harkebrügge\, 26676\, Deutschland
CATEGORIES:KAB
END:VEVENT
BEGIN:VEVENT
DTSTART;TZID=Europe/Berlin:20231123T190000
DTEND;TZID=Europe/Berlin:20231123T200000
DTSTAMP:20260423T190006
CREATED:20231120T174510Z
LAST-MODIFIED:20231120T174510Z
UID:6625-1700766000-1700769600@xn--harkebrgge-geb.de
SUMMARY:Infoabend Arbeitgeberservice zum Fachkräftemangel
DESCRIPTION:
URL:https://xn--harkebrgge-geb.de/event/infoabend-arbeitgeberservice-zum-fachkraeftemangel/
LOCATION:Hotel Ummen\, Friesoyther Straße 2\, Barßel\, 26676
CATEGORIES:Gemeinde Barßel
END:VEVENT
END:VCALENDAR