BEGIN:VCALENDAR
VERSION:2.0
PRODID:-//Harkebrügge - ECPv6.15.20//NONSGML v1.0//EN
CALSCALE:GREGORIAN
METHOD:PUBLISH
X-ORIGINAL-URL:https://xn--harkebrgge-geb.de
X-WR-CALDESC:Veranstaltungen für Harkebrügge
REFRESH-INTERVAL;VALUE=DURATION:PT1H
X-Robots-Tag:noindex
X-PUBLISHED-TTL:PT1H
BEGIN:VTIMEZONE
TZID:Europe/Berlin
BEGIN:DAYLIGHT
TZOFFSETFROM:+0100
TZOFFSETTO:+0200
TZNAME:CEST
DTSTART:20220327T010000
END:DAYLIGHT
BEGIN:STANDARD
TZOFFSETFROM:+0200
TZOFFSETTO:+0100
TZNAME:CET
DTSTART:20221030T010000
END:STANDARD
BEGIN:DAYLIGHT
TZOFFSETFROM:+0100
TZOFFSETTO:+0200
TZNAME:CEST
DTSTART:20230326T010000
END:DAYLIGHT
BEGIN:STANDARD
TZOFFSETFROM:+0200
TZOFFSETTO:+0100
TZNAME:CET
DTSTART:20231029T010000
END:STANDARD
BEGIN:DAYLIGHT
TZOFFSETFROM:+0100
TZOFFSETTO:+0200
TZNAME:CEST
DTSTART:20240331T010000
END:DAYLIGHT
BEGIN:STANDARD
TZOFFSETFROM:+0200
TZOFFSETTO:+0100
TZNAME:CET
DTSTART:20241027T010000
END:STANDARD
END:VTIMEZONE
BEGIN:VEVENT
DTSTART;TZID=Europe/Berlin:20231203T140000
DTEND;TZID=Europe/Berlin:20231203T180000
DTSTAMP:20260423T202842
CREATED:20231120T180125Z
LAST-MODIFIED:20231120T180125Z
UID:6630-1701612000-1701626400@xn--harkebrgge-geb.de
SUMMARY:Harkebrügger Adventstreff
DESCRIPTION:Der Aktivkreis Harkebrügge und die Harkebrügger Vereine laden zum traditionellen Adventstreff am 1. Advent von 14:00 – 18:00 Uhr auf dem Kirchplatz in Harkebrügge ein. \nGegen ca. 17:30 haben wir dann wieder den heiligen Nikolaus mit seinen Engeln zu Gast\, der für alle Kinder eine Kleinigkeit dabei hat. \nFür das leibliche Wohl ist gesorgt \nDas Ganze natürlich wieder mit freundlicher Unterstützung von: \nKolping\, KAB\, Sportverein\, Tennisverein\, White Sharks\, Föff und der Landjugend\, Ortsverein\, sowie der Junker-Harke-Grundschule und dem Kindergarten „St. Marien Harkebrügge“
URL:https://xn--harkebrgge-geb.de/event/harkebruegger-adventstreff-5/
LOCATION:Kirche St. Marien\, Dorfstraße\, Harkebrügge
CATEGORIES:Adventstreff
END:VEVENT
END:VCALENDAR